
BEGIN:VCALENDAR
VERSION:2.0
PRODID:-//Asia Pacific Poker Tour//APPT Championship 2026//APPT National//EN
BEGIN:VEVENT
UID:01000000-3971-2ef2-0c75-08de90b46b75
DTSTAMP;TZID=Asia/Manila:20261011T130000
DTSTART;TZID=Asia/Manila:20261011T130000
DTEND;TZID=Asia/Manila:20261012T235959
SUMMARY:APPT National
DESCRIPTION:Featured\nGame: Texas Hold'em (NL)\nBuy-In: 27,000 +  PHP\nGTD: 8,000,000 PHP\nStack: 30,000
LOCATION:Okada Manila, Manila, Philippines
END:VEVENT
END:VCALENDAR
