
BEGIN:VCALENDAR
VERSION:2.0
PRODID:-//Gods of Poker//The Titan Assembly - GOP Taipei 2026//Titan Stack//EN
BEGIN:VEVENT
UID:01000000-a9fe-0a58-520e-08de2870a739
DTSTAMP;TZID=Asia/Taipei:20260111T130000
DTSTART;TZID=Asia/Taipei:20260111T130000
DTEND;TZID=Asia/Taipei:20260112T235959
SUMMARY:Titan Stack
DESCRIPTION:Featured\nGame: Texas Hold'em (NL)\nBuy-In: 16,416 + 2,584 TWD\nGTD: 3,000,000 TWD\nStack: 80,000
LOCATION:CTP Asia Poker Arena, Taipei City, Taiwan
END:VEVENT
END:VCALENDAR
