
BEGIN:VCALENDAR
VERSION:2.0
PRODID:-//World Poker Games//World Poker Games Taiwan 2026//Mini Main Event//EN
BEGIN:VEVENT
UID:01000000-4909-3915-7d7e-08de9c6bd231
DTSTAMP;TZID=Asia/Taipei:20260527T130000
DTSTART;TZID=Asia/Taipei:20260527T130000
DTEND;TZID=Asia/Taipei:20260528T235959
SUMMARY:Mini Main Event
DESCRIPTION:Featured\nGame: Texas Hold'em (NL)\nBuy-In: 10,800 + 1,200 TWD\nGTD: 2,000,000 TWD\nStack: 30,000
LOCATION:CTP Asia Poker Arena, Taipei City, Taiwan
END:VEVENT
END:VCALENDAR
