
BEGIN:VCALENDAR
VERSION:2.0
PRODID:-//Asian Poker Tour//APT Jeju South Korea 2025//Turbo - Double Stack//EN
BEGIN:VEVENT
UID:01000000-a9fe-0a58-d7be-08ddb488f041
DTSTAMP;TZID=Asia/Seoul:20250928T173000
DTSTART;TZID=Asia/Seoul:20250928T173000
DTEND;TZID=Asia/Seoul:20250928T235959
SUMMARY:Turbo - Double Stack
DESCRIPTION:Game: Texas Hold'em (NL)\nBuy-In: 600,000 +  KRW\nLate Reg: @ 19:30
LOCATION:LES A Casino, Jeju, South Korea
END:VEVENT
END:VCALENDAR
