
BEGIN:VCALENDAR
VERSION:2.0
PRODID:-//World Poker Games//World Poker Games Taiwan 2026//Mini Highroller //EN
BEGIN:VEVENT
UID:01000000-4909-3915-cfa5-08de9c6bd1b2
DTSTAMP;TZID=Asia/Taipei:20260527T110000
DTSTART;TZID=Asia/Taipei:20260527T110000
DTEND;TZID=Asia/Taipei:20260527T235959
SUMMARY:Mini Highroller 
DESCRIPTION:Game: Texas Hold'em (NL)\nBuy-In: 19,800 + 2,200 TWD\nStack: 100,000\nLevels: 25 min\nLate Reg: 13 lvl @  16:45
LOCATION:CTP Asia Poker Arena, Taipei City, Taiwan
END:VEVENT
END:VCALENDAR
