
BEGIN:VCALENDAR
VERSION:2.0
PRODID:-//Ace Poker League//Ace Poker League Osaka 2025//The Elephant Stack//EN
BEGIN:VEVENT
UID:01000000-a9fe-0a58-df74-08dd8280baac
DTSTAMP;TZID=Asia/Tokyo:20250506T120000
DTSTART;TZID=Asia/Tokyo:20250506T120000
DTEND;TZID=Asia/Tokyo:20250506T235959
SUMMARY:The Elephant Stack
DESCRIPTION:Game: Texas Hold'em (NL)\nBuy-In: 15,000 +  JPY\nStack: 100,000\nLate Reg: @ 15:40
LOCATION:Dojima River Forum, Osaka, Japan
END:VEVENT
END:VCALENDAR
