
BEGIN:VCALENDAR
VERSION:2.0
PRODID:-//Asia Pacific Poker Tour//APPT Championship 2026//PLO Win The Button - Turbo//EN
BEGIN:VEVENT
UID:01000000-3971-2ef2-a025-08de90b46ab3
DTSTAMP;TZID=Asia/Manila:20261010T190000
DTSTART;TZID=Asia/Manila:20261010T190000
DTEND;TZID=Asia/Manila:20261010T235959
SUMMARY:PLO Win The Button - Turbo
DESCRIPTION:Game: Omaha (PL)\nBuy-In: 12,672 + 2,328 PHP\nStack: 25,000\nLevels: 15 min\nLate Reg: @ 21:10
LOCATION:Okada Manila, Manila, Philippines
END:VEVENT
END:VCALENDAR
