
BEGIN:VCALENDAR
VERSION:2.0
PRODID:-//Poker Dream//Poker Dream 22 Jeju//Mystery Bounty//EN
BEGIN:VEVENT
UID:01000000-3971-2ef2-85de-08de9a1d1694
DTSTAMP;TZID=Asia/Seoul:20260504T130000
DTSTART;TZID=Asia/Seoul:20260504T130000
DTEND;TZID=Asia/Seoul:20260506T235959
SUMMARY:Mystery Bounty
DESCRIPTION:Featured\nGame: Texas Hold'em (NL)\nBuy-In: 1,365,000 + 135,000 KRW\nGTD: 400,000,000 KRW\nStack: 30,000
LOCATION:LES A Casino, Jeju, South Korea
END:VEVENT
END:VCALENDAR
