
BEGIN:VCALENDAR
VERSION:2.0
PRODID:-//Vietnam Poker Tour//VPT Championship II 2025//LADIES EVENT//EN
BEGIN:VEVENT
UID:01000000-a9fe-0a58-1083-08dde64e41fb
DTSTAMP;TZID=Asia/Hanoi:20251104T183000
DTSTART;TZID=Asia/Hanoi:20251104T183000
DTEND;TZID=Asia/Hanoi:20251104T235959
SUMMARY:LADIES EVENT
DESCRIPTION:Game: null (null)\nBuy-In: 4,000,000 + 500,000 VND\nStack: 20,000\nLate Reg: 9 lvl @ 20:40
LOCATION:Corona Casino and Resort, Phú Quốc, Viet Nam
END:VEVENT
END:VCALENDAR
