
BEGIN:VCALENDAR
VERSION:2.0
PRODID:-//Vietnam Poker Tour//VPT Championship II 2025//NL HOLD'EM//EN
BEGIN:VEVENT
UID:01000000-a9fe-0a58-33bb-08dde64e41ce
DTSTAMP;TZID=Asia/Hanoi:20251104T153000
DTSTART;TZID=Asia/Hanoi:20251104T153000
DTEND;TZID=Asia/Hanoi:20251104T235959
SUMMARY:NL HOLD'EM
DESCRIPTION:Game: null (null)\nBuy-In: 4,000,000 + 500,000 VND\nStack: 20,000\nLate Reg: 11 lvl @ 19:10
LOCATION:Corona Casino and Resort, Phú Quốc, Viet Nam
END:VEVENT
END:VCALENDAR
