
BEGIN:VCALENDAR
VERSION:2.0
PRODID:-//Poker Dream//Poker Dream Malaysia 15//NLH / PLO//EN
BEGIN:VEVENT
UID:01000000-a9fe-0a58-88c6-08dd2f4668d8
DTSTAMP;TZID=Asia/Kuala_Lumpur:20250121T140000
DTSTART;TZID=Asia/Kuala_Lumpur:20250121T140000
DTEND;TZID=Asia/Kuala_Lumpur:20250121T235959
SUMMARY:NLH / PLO
DESCRIPTION:Game: Texas Hold'em (NL)\nBuy-In: 629 + 171 MYR
LOCATION:Resorts World Genting, Malaysia, Pahang, Malaysia
END:VEVENT
END:VCALENDAR
