
BEGIN:VCALENDAR
VERSION:2.0
PRODID:-//Asia Pacific Poker Tour//APPT Manila 2025//Mini High Roller//EN
BEGIN:VEVENT
UID:01000000-a9fe-0a58-8f94-08dda2a1db65
DTSTAMP;TZID=Asia/Manila:20250726T130000
DTSTART;TZID=Asia/Manila:20250726T130000
DTEND;TZID=Asia/Manila:20250727T235959
SUMMARY:Mini High Roller
DESCRIPTION:Featured\nGame: Texas Hold'em (NL)\nBuy-In: 80,000 +  PHP\nStack: 100,000\nLevels: 30 min
LOCATION:Okada Manila, Manila, Philippines
END:VEVENT
END:VCALENDAR
