
BEGIN:VCALENDAR
VERSION:2.0
PRODID:-//Gods of Poker//The Titan Assembly - GOP Taipei 2026//Hyper Turbo //EN
BEGIN:VEVENT
UID:01000000-a9fe-0a58-1a0b-08de2870a377
DTSTAMP;TZID=Asia/Taipei:20260110T200000
DTSTART;TZID=Asia/Taipei:20260110T200000
DTEND;TZID=Asia/Taipei:20260110T235959
SUMMARY:Hyper Turbo 
DESCRIPTION:Game: Texas Hold'em (NL)\nBuy-In: 8,544 + 1,456 TWD\nStack: 50,000\nLevels: 10 min\nLate Reg: 3 lvl @ 21:15
LOCATION:CTP Asia Poker Arena, Taipei City, Taiwan
END:VEVENT
END:VCALENDAR
