
BEGIN:VCALENDAR
VERSION:2.0
PRODID:-//World Poker Games//World Poker Games Taiwan 2026//Run It Twice//EN
BEGIN:VEVENT
UID:01000000-4909-3915-f496-08de9c6bd179
DTSTAMP;TZID=Asia/Taipei:20260526T173000
DTSTART;TZID=Asia/Taipei:20260526T173000
DTEND;TZID=Asia/Taipei:20260526T235959
SUMMARY:Run It Twice
DESCRIPTION:Game: Texas Hold'em (NL)\nBuy-In: 5,100 + 900 TWD\nStack: 20,000\nLevels: 15 min\nLate Reg: 9 lvl @  19:50
LOCATION:CTP Asia Poker Arena, Taipei City, Taiwan
END:VEVENT
END:VCALENDAR
