
BEGIN:VCALENDAR
VERSION:2.0
PRODID:-//Ace Poker League//Ace Poker League Osaka 2025//Night Deep Turbo//EN
BEGIN:VEVENT
UID:01000000-a9fe-0a58-b5c1-08dd8280ba29
DTSTAMP;TZID=Asia/Tokyo:20250505T220000
DTSTART;TZID=Asia/Tokyo:20250505T220000
DTEND;TZID=Asia/Tokyo:20250505T235959
SUMMARY:Night Deep Turbo
DESCRIPTION:Game: Texas Hold'em (NL)\nBuy-In: 12,000 +  JPY\nStack: 30,000\nLate Reg: @ 24:10
LOCATION:Dojima River Forum, Osaka, Japan
END:VEVENT
END:VCALENDAR
