
BEGIN:VCALENDAR
VERSION:2.0
PRODID:-//Vietnam Poker Tour//VPT Championship II 2025//MEGA STACK HIGH ROLLER//EN
BEGIN:VEVENT
UID:01000000-a9fe-0a58-c828-08dde64e42ac
DTSTAMP;TZID=Asia/Hanoi:20251104T130000
DTSTART;TZID=Asia/Hanoi:20251104T130000
DTEND;TZID=Asia/Hanoi:20251105T235959
SUMMARY:MEGA STACK HIGH ROLLER
DESCRIPTION:Game: null (null)\nBuy-In: 46,000,000 + 4,000,000 VND\nGTD: 1,500,000,000 VND\nStack: 250,000
LOCATION:Corona Casino and Resort, Phú Quốc, Viet Nam
END:VEVENT
END:VCALENDAR
