
BEGIN:VCALENDAR
VERSION:2.0
PRODID:-//Poker Dream//Poker Dream 22 Jeju//Main Event//EN
BEGIN:VEVENT
UID:01000000-3971-2ef2-d4ee-08de9a1d18d4
DTSTAMP;TZID=Asia/Seoul:20260504T130000
DTSTART;TZID=Asia/Seoul:20260504T130000
DTEND;TZID=Asia/Seoul:20260510T235959
SUMMARY:Main Event
DESCRIPTION:Main Event\nFeatured\nGame: Texas Hold'em (NL)\nBuy-In: 2,184,000 + 216,000 KRW\nGTD: 2,200,000,000 KRW\nStack: 30,000
LOCATION:LES A Casino, Jeju, South Korea
END:VEVENT
END:VCALENDAR
