
BEGIN:VCALENDAR
VERSION:2.0
PRODID:-//Asia Pacific Poker Tour//APPT Championship 2026//Bubble Rush//EN
BEGIN:VEVENT
UID:01000000-3971-2ef2-50a8-08de90b46a9c
DTSTAMP;TZID=Asia/Manila:20261010T150000
DTSTART;TZID=Asia/Manila:20261010T150000
DTEND;TZID=Asia/Manila:20261010T235959
SUMMARY:Bubble Rush
DESCRIPTION:Game: Texas Hold'em (NL)\nBuy-In: 16,896 + 3,104 PHP\nStack: 25,000\nLevels: 15 min\nLate Reg: @ 17:10
LOCATION:Okada Manila, Manila, Philippines
END:VEVENT
END:VCALENDAR
