
BEGIN:VCALENDAR
VERSION:2.0
PRODID:-//World Poker Games//WPG Taiwan 2026//PLO - Bounty | 3K Bounty//EN
BEGIN:VEVENT
UID:01000000-4909-3915-ac50-08de9c6bd162
DTSTAMP;TZID=Asia/Taipei:20260526T140000
DTSTART;TZID=Asia/Taipei:20260526T140000
DTEND;TZID=Asia/Taipei:20260526T235959
SUMMARY:PLO - Bounty | 3K Bounty
DESCRIPTION:Game: Omaha (PL)\nBuy-In: 5,950 + 1,050 TWD\nStack: 20,000\nLevels: 20 min\nLate Reg: 9 lvl @  17:10
LOCATION:CTP Asia Poker Arena, Taipei City, Taiwan
END:VEVENT
END:VCALENDAR
