
BEGIN:VCALENDAR
VERSION:2.0
PRODID:-//Vietnam Poker Tour//VPT Championship II 2025//PHU QUOC LION CUP//EN
BEGIN:VEVENT
UID:01000000-a9fe-0a58-a8ab-08dde64e41a1
DTSTAMP;TZID=Asia/Hanoi:20251104T113000
DTSTART;TZID=Asia/Hanoi:20251104T113000
DTEND;TZID=Asia/Hanoi:20251104T235959
SUMMARY:PHU QUOC LION CUP
DESCRIPTION:Game: null (null)\nBuy-In: 10,800,000 + 1,200,000 VND\nGTD: 1,000,000,000 VND\nStack: 30,000\nLate Reg: 12 lvl @ 17:45
LOCATION:Corona Casino and Resort, Phú Quốc, Viet Nam
END:VEVENT
END:VCALENDAR
