
BEGIN:VCALENDAR
VERSION:2.0
PRODID:-//Asian Poker Tour//APT Jeju South Korea 2025//Sunday Superstack//EN
BEGIN:VEVENT
UID:01000000-a9fe-0a58-6148-08ddb488ef2d
DTSTAMP;TZID=Asia/Seoul:20250928T111500
DTSTART;TZID=Asia/Seoul:20250928T111500
DTEND;TZID=Asia/Seoul:20250928T235959
SUMMARY:Sunday Superstack
DESCRIPTION:Game: Texas Hold'em (NL)\nBuy-In: 500,000 +  KRW\nLate Reg: @ 15:55
LOCATION:LES A Casino, Jeju, South Korea
END:VEVENT
END:VCALENDAR
