
BEGIN:VCALENDAR
VERSION:2.0
PRODID:-//Royal Poker Tour//RPT Championship III//RPT SATURDAY KING HIGH ROLLER//EN
BEGIN:VEVENT
UID:01000000-4909-3915-14d3-08de9ed44381
DTSTAMP;TZID=Asia/Hanoi:20260606T130000
DTSTART;TZID=Asia/Hanoi:20260606T130000
DTEND;TZID=Asia/Hanoi:20260607T235959
SUMMARY:RPT SATURDAY KING HIGH ROLLER
DESCRIPTION:Featured\nGame: Texas Hold'em (NL)\nBuy-In: 50,000,000 + 5,000,000 VND\nGTD: 2,000,000,000 VND\nStack: 200,000
LOCATION:Royal Poker Club, Hanoi, Viet Nam
END:VEVENT
END:VCALENDAR
