
BEGIN:VCALENDAR
VERSION:2.0
PRODID:-//Vietnam Poker Tour//VPT Championship II 2025//MAIN EVENT//EN
BEGIN:VEVENT
UID:01000000-a9fe-0a58-5928-08dde64e479a
DTSTAMP;TZID=Asia/Hanoi:20251104T130000
DTSTART;TZID=Asia/Hanoi:20251104T130000
DTEND;TZID=Asia/Hanoi:20251108T235959
SUMMARY:MAIN EVENT
DESCRIPTION:Main Event\nFeatured\nGame: null (null)\nBuy-In: 23,400,000 + 2,600,000 VND\nGTD: 20,000,000,000 VND\nStack: 40,000
LOCATION:Corona Casino and Resort, Phú Quốc, Viet Nam
END:VEVENT
END:VCALENDAR
