
BEGIN:VCALENDAR
VERSION:2.0
PRODID:-//World Poker Games//WPG Taiwan 2026//High Roller Single Day//EN
BEGIN:VEVENT
UID:01000000-4909-3915-ca3c-08de9c6bd13e
DTSTAMP;TZID=Asia/Taipei:20260526T110000
DTSTART;TZID=Asia/Taipei:20260526T110000
DTEND;TZID=Asia/Taipei:20260526T235959
SUMMARY:High Roller Single Day
DESCRIPTION:Game: Texas Hold'em (NL)\nBuy-In: 27,000 + 3 TWD\nGTD: 500,000 TWD\nStack: 100,000\nLevels: 30 min\nLate Reg: 11 lvl @  18:30
LOCATION:CTP Asia Poker Arena, Taipei City, Taiwan
END:VEVENT
END:VCALENDAR
