
BEGIN:VCALENDAR
VERSION:2.0
PRODID:-//Danang Poker Tour//Danang Poker Tournament 2025//Mini High Roller//EN
BEGIN:VEVENT
UID:01000000-a9fe-0a58-833c-08dd5e673aa2
DTSTAMP;TZID=Asia/Hanoi:20250307T130000
DTSTART;TZID=Asia/Hanoi:20250307T130000
DTEND;TZID=Asia/Hanoi:20250307T235959
SUMMARY:Mini High Roller
DESCRIPTION:Featured\nGame: Texas Hold'em (NL)\nBuy-In: 20,000,000 + 2,000,000 VND\nStack: 100,000\nLevels: 30 min\nLate Reg: 10 lvl @ 18:30
LOCATION:New Century Poker Club, Da Nang, Viet Nam
END:VEVENT
END:VCALENDAR
