
BEGIN:VCALENDAR
VERSION:2.0
PRODID:-//Asia Pacific Poker Tour//APPT Championship 2026//Knockout [₱5K Bounty]//EN
BEGIN:VEVENT
UID:01000000-3971-2ef2-f956-08de90b46a71
DTSTAMP;TZID=Asia/Manila:20261010T110000
DTSTART;TZID=Asia/Manila:20261010T110000
DTEND;TZID=Asia/Manila:20261010T235959
SUMMARY:Knockout [₱5K Bounty]
DESCRIPTION:Game: Texas Hold'em (NL)\nBuy-In: 8,648 + 1,352 PHP\nStack: 30,000\nLevels: 20 min\nLate Reg: @ 14:00
LOCATION:Okada Manila, Manila, Philippines
END:VEVENT
END:VCALENDAR
