
BEGIN:VCALENDAR
VERSION:2.0
PRODID:-//Ace Poker League//Ace Poker League Osaka 2025//Welcome to APL//EN
BEGIN:VEVENT
UID:01000000-a9fe-0a58-17c3-08dd8280b4b2
DTSTAMP;TZID=Asia/Tokyo:20250502T130000
DTSTART;TZID=Asia/Tokyo:20250502T130000
DTEND;TZID=Asia/Tokyo:20250502T235959
SUMMARY:Welcome to APL
DESCRIPTION:Game: Texas Hold'em (NL)\nBuy-In: 10,000 +  JPY\nStack: 25,000\nLate Reg: @ 16:00
LOCATION:Dojima River Forum, Osaka, Japan
END:VEVENT
END:VCALENDAR
