
BEGIN:VCALENDAR
VERSION:2.0
PRODID:-//Taiwan Millions Tournament//TMT Championship 2025//Taipei Open//EN
BEGIN:VEVENT
UID:01000000-a9fe-0a58-ad87-08de01a6db7e
DTSTAMP;TZID=Asia/Taipei:20251017T130000
DTSTART;TZID=Asia/Taipei:20251017T130000
DTEND;TZID=Asia/Taipei:20251018T235959
SUMMARY:Taipei Open
DESCRIPTION:Featured\nGame: Texas Hold'em (NL)\nBuy-In: 4,250 + 750 TWD\nGTD: 1,000,000 TWD\nStack: 20,000
LOCATION:CTP Asia Poker Arena, Taipei City, Taiwan
END:VEVENT
END:VCALENDAR
