
BEGIN:VCALENDAR
VERSION:2.0
PRODID:-//PokerStars Live//Manila Megastack 23//SuperStack Freezeout//EN
BEGIN:VEVENT
UID:01000000-a9fe-0a58-986c-08de14aa3352
DTSTAMP;TZID=Asia/Manila:20251127T160000
DTSTART;TZID=Asia/Manila:20251127T160000
DTEND;TZID=Asia/Manila:20251127T235959
SUMMARY:SuperStack Freezeout
DESCRIPTION:Game: Texas Hold'em (NL)\nBuy-In: 13,200 + 1,800 PHP\nStack: 40,000\nLevels: 20 min\nLate Reg: 6 lvl @ 18:10
LOCATION:Okada Manila, Manila, Philippines
END:VEVENT
END:VCALENDAR
