
BEGIN:VCALENDAR
VERSION:2.0
PRODID:-//Poker Dream//Poker Dream Malaysia 15//Short Deck Ante Only//EN
BEGIN:VEVENT
UID:01000000-a9fe-0a58-727c-08dd2c149abe
DTSTAMP;TZID=Asia/Kuala_Lumpur:20250116T140000
DTSTART;TZID=Asia/Kuala_Lumpur:20250116T140000
DTEND;TZID=Asia/Kuala_Lumpur:20250116T235959
SUMMARY:Short Deck Ante Only
DESCRIPTION:Game: Texas Hold'em (NL)\nBuy-In: 629 + 171 MYR
LOCATION:Resorts World Genting, Malaysia, Pahang, Malaysia
END:VEVENT
END:VCALENDAR
