
BEGIN:VCALENDAR
VERSION:2.0
PRODID:-//Royal Poker Tour//RPT Championship III//RPT HIGH ROLLER OPENER - LIVE//EN
BEGIN:VEVENT
UID:01000000-4909-3915-fb7b-08de9ed44105
DTSTAMP;TZID=Asia/Hanoi:20260603T120000
DTSTART;TZID=Asia/Hanoi:20260603T120000
DTEND;TZID=Asia/Hanoi:20260603T235959
SUMMARY:RPT HIGH ROLLER OPENER - LIVE
DESCRIPTION:Game: Texas Hold'em (NL)\nBuy-In: 30,000,000 + 3,000,000 VND\nGTD: 2,000,000,000 VND\nStack: 100,000\nLevels: 35 min\nLate Reg: 12 lvl @ 19:00
LOCATION:Royal Poker Club, Hanoi, Viet Nam
END:VEVENT
END:VCALENDAR
