
BEGIN:VCALENDAR
VERSION:2.0
PRODID:-//Poker Dream//Poker Dream 22 Jeju//QQPK Masters//EN
BEGIN:VEVENT
UID:01000000-3971-2ef2-96d2-08de9a1d1552
DTSTAMP;TZID=Asia/Seoul:20260501T130000
DTSTART;TZID=Asia/Seoul:20260501T130000
DTEND;TZID=Asia/Seoul:20260504T235959
SUMMARY:QQPK Masters
DESCRIPTION:Featured\nGame: Texas Hold'em (NL)\nBuy-In: 2,790,000 + 210,000 KRW\nStack: 300,000
LOCATION:LES A Casino, Jeju, South Korea
END:VEVENT
END:VCALENDAR
