
BEGIN:VCALENDAR
VERSION:2.0
PRODID:-//Players Series//PS Championship III Taipei 2026//PS Warm Up//EN
BEGIN:VEVENT
UID:01000000-a9fe-0a58-cbb6-08de420ac84b
DTSTAMP;TZID=Asia/Taipei:20260226T130000
DTSTART;TZID=Asia/Taipei:20260226T130000
DTEND;TZID=Asia/Taipei:20260227T235959
SUMMARY:PS Warm Up
DESCRIPTION:Featured\nGame: Texas Hold'em (NL)\nBuy-In: 4,350 + 650 TWD\nGTD: 1,000,000 TWD\nStack: 25,000
LOCATION:CTP Asia Poker Arena, Taipei City, Taiwan
END:VEVENT
END:VCALENDAR
