
BEGIN:VCALENDAR
VERSION:2.0
PRODID:-//Asia Pacific Poker Tour//APPT Championship 2026//Okada Kickoff//EN
BEGIN:VEVENT
UID:01000000-3971-2ef2-4a67-08de90b469dd
DTSTAMP;TZID=Asia/Manila:20261008T130000
DTSTART;TZID=Asia/Manila:20261008T130000
DTEND;TZID=Asia/Manila:20261008T235959
SUMMARY:Okada Kickoff
DESCRIPTION:Featured\nGame: Texas Hold'em (NL)\nBuy-In: 2,957 + 543 PHP\nGTD: 750,000 PHP\nStack: 20,000
LOCATION:Okada Manila, Manila, Philippines
END:VEVENT
END:VCALENDAR
