
BEGIN:VCALENDAR
VERSION:2.0
PRODID:-//Poker Dream//Poker Dream 19 Malaysia//Malaysia Open//EN
BEGIN:VEVENT
UID:01000000-a9fe-0a58-7b22-08ddf9341bff
DTSTAMP;TZID=Asia/Kuala_Lumpur:20251023T130000
DTSTART;TZID=Asia/Kuala_Lumpur:20251023T130000
DTEND;TZID=Asia/Kuala_Lumpur:20251026T235959
SUMMARY:Malaysia Open
DESCRIPTION:Featured\nGame: Texas Hold'em (NL)\nBuy-In: 1,205 + 295 MYR\nGTD: 2,000,000 MYR\nStack: 25,000
LOCATION:Resorts World Genting, Malaysia, Pahang, Malaysia
END:VEVENT
END:VCALENDAR
