
BEGIN:VCALENDAR
VERSION:2.0
PRODID:-//The Singapore Poker Championships//SPC XX//Main Event 1B Satellite//EN
BEGIN:VEVENT
UID:01000000-002c-8d50-70e6-08de68d83719
DTSTAMP;TZID=Asia/Singapore:20260307T110000
DTSTART;TZID=Asia/Singapore:20260307T110000
DTEND;TZID=Asia/Singapore:20260307T235959
SUMMARY:Main Event 1B Satellite
DESCRIPTION:Game: Texas Hold'em (NL)\nBuy-In: 62 + 8 SGD
LOCATION:MV Aegean Paradise, Singapore, Singapore
END:VEVENT
END:VCALENDAR
