
BEGIN:VCALENDAR
VERSION:2.0
PRODID:-//U Series Championship//U Series Champ. Osaka Q2 2026//Main Event//EN
BEGIN:VEVENT
UID:01000000-3971-2ef2-b381-08de91633af2
DTSTAMP;TZID=Asia/Tokyo:20260429T130000
DTSTART;TZID=Asia/Tokyo:20260429T130000
DTEND;TZID=Asia/Tokyo:20260504T235959
SUMMARY:Main Event
DESCRIPTION:Main Event\nGame: Texas Hold'em (NL)\nBuy-In:  +  JPY
LOCATION:Dojima River Forum, Osaka, Japan
END:VEVENT
END:VCALENDAR
