
BEGIN:VCALENDAR
VERSION:2.0
PRODID:-//Royal Poker Tour//RPT Championship II//RPT SUPER SUNDAY HIGH ROLLER//EN
BEGIN:VEVENT
UID:01000000-3fa8-b42d-3c2d-08de6e39f820
DTSTAMP;TZID=Asia/Hanoi:20260322T130000
DTSTART;TZID=Asia/Hanoi:20260322T130000
DTEND;TZID=Asia/Hanoi:20260323T235959
SUMMARY:RPT SUPER SUNDAY HIGH ROLLER
DESCRIPTION:Game: Texas Hold'em (NL)\nBuy-In: 40,000,000 + 4,000,000 VND\nGTD: 1,600,000,000 VND\nStack: 200,000\nLevels: 35 min
LOCATION:Royal Poker Club, Hanoi, Viet Nam
END:VEVENT
END:VCALENDAR
