
BEGIN:VCALENDAR
VERSION:2.0
PRODID:-//Gods of Poker//The Titan Assembly - GOP Taipei 2026//Big O//EN
BEGIN:VEVENT
UID:01000000-a9fe-0a58-f36a-08de2870a1d6
DTSTAMP;TZID=Asia/Taipei:20260110T123000
DTSTART;TZID=Asia/Taipei:20260110T123000
DTEND;TZID=Asia/Taipei:20260110T235959
SUMMARY:Big O
DESCRIPTION:Game: Big O (null)\nBuy-In: 15,552 + 2,448 TWD\nStack: 60,000\nLevels: 30 min\nLate Reg: 3 lvl @ 14:45
LOCATION:CTP Asia Poker Arena, Taipei City, Taiwan
END:VEVENT
END:VCALENDAR
