
BEGIN:VCALENDAR
VERSION:2.0
PRODID:-//Taiwan Millions Tournament//TMT Championship 2025//TMTC Main//EN
BEGIN:VEVENT
UID:01000000-a9fe-0a58-c3e1-08de01a7d36f
DTSTAMP;TZID=Asia/Taipei:20251023T130000
DTSTART;TZID=Asia/Taipei:20251023T130000
DTEND;TZID=Asia/Taipei:20251027T235959
SUMMARY:TMTC Main
DESCRIPTION:Main Event\nFeatured\nGame: Texas Hold'em (NL)\nBuy-In: 31,500 + 3,500 TWD\nGTD: 30,000,000 TWD\nStack: 50,000
LOCATION:CTP Asia Poker Arena, Taipei City, Taiwan
END:VEVENT
END:VCALENDAR
