
BEGIN:VCALENDAR
VERSION:2.0
PRODID:-//World Poker Games//World Poker Games Taiwan 2026//NLH/PLO ROTATION//EN
BEGIN:VEVENT
UID:01000000-4909-3915-809a-08de9c6bd104
DTSTAMP;TZID=Asia/Taipei:20260525T160000
DTSTART;TZID=Asia/Taipei:20260525T160000
DTEND;TZID=Asia/Taipei:20260525T235959
SUMMARY:NLH/PLO ROTATION
DESCRIPTION:Game: Mixed (null)\nBuy-In: 5,100 + 900 TWD\nStack: 20,000\nLevels: 20 min\nLate Reg: 9 lvl @  19:10
LOCATION:CTP Asia Poker Arena, Taipei City, Taiwan
END:VEVENT
END:VCALENDAR
