
BEGIN:VCALENDAR
VERSION:2.0
PRODID:-//U Series Championship//U Series Champ. Osaka Q2 2026//NLH COLOSSEUM//EN
BEGIN:VEVENT
UID:01000000-3971-2ef2-71d3-08de916339a3
DTSTAMP;TZID=Asia/Tokyo:20260501T130000
DTSTART;TZID=Asia/Tokyo:20260501T130000
DTEND;TZID=Asia/Tokyo:20260501T235959
SUMMARY:NLH COLOSSEUM
DESCRIPTION:Game: Texas Hold'em (NL)\nBuy-In: 25,000 +  JPY\nStack: 40,000\nLevels: 50 min\nLate Reg: @ 16:40
LOCATION:Dojima River Forum, Osaka, Japan
END:VEVENT
END:VCALENDAR
