
BEGIN:VCALENDAR
VERSION:2.0
PRODID:-//PokerStars Live//Manila Megastack 23//₱50K NLH//EN
BEGIN:VEVENT
UID:01000000-a9fe-0a58-a6b2-08de14aa375b
DTSTAMP;TZID=Asia/Manila:20251130T140000
DTSTART;TZID=Asia/Manila:20251130T140000
DTEND;TZID=Asia/Manila:20251130T235959
SUMMARY:₱50K NLH
DESCRIPTION:Game: Texas Hold'em (NL)\nBuy-In: 45,000 + 5,000 PHP\nStack: 100,000\nLevels: 25 min\nLate Reg: 10 lvl @ 18:30
LOCATION:Okada Manila, Manila, Philippines
END:VEVENT
END:VCALENDAR
