
BEGIN:VCALENDAR
VERSION:2.0
PRODID:-//Asian Poker Tour//APT Championship Taipei 2025//Hyper Turbo - NLH//EN
BEGIN:VEVENT
UID:01000000-a9fe-0a58-72b1-08ddef02565c
DTSTAMP;TZID=Asia/Taipei:20251130T190000
DTSTART;TZID=Asia/Taipei:20251130T190000
DTEND;TZID=Asia/Taipei:20251130T235959
SUMMARY:Hyper Turbo - NLH
DESCRIPTION:Game: Texas Hold'em (NL)\nBuy-In: 6,667 + 1,333 TWD\nStack: 20,000\nLevels: 10 min\nLate Reg: @ 20:25
LOCATION:Red Space, Taipei, Taiwan
END:VEVENT
END:VCALENDAR
