
BEGIN:VCALENDAR
VERSION:2.0
PRODID:-//Asian Poker Tour//APT Championship Taipei 2025//Turbo - PL Omaha High//EN
BEGIN:VEVENT
UID:01000000-a9fe-0a58-d1e1-08de1e2deef4
DTSTAMP;TZID=Asia/Taipei:20251130T164500
DTSTART;TZID=Asia/Taipei:20251130T164500
DTEND;TZID=Asia/Taipei:20251130T235959
SUMMARY:Turbo - PL Omaha High
DESCRIPTION:Game: Texas Hold'em (NL)\nBuy-In: 5,834 + 1,166 TWD\nStack: 20,000\nLevels: 15 min\nLate Reg: @ 18:45
LOCATION:Red Space, Taipei, Taiwan
END:VEVENT
END:VCALENDAR
