
BEGIN:VCALENDAR
VERSION:2.0
PRODID:-//Asian Poker Tour//APT Championship Taipei 2025//Turbo - Women's Event//EN
BEGIN:VEVENT
UID:01000000-a9fe-0a58-1adc-08de1e2def22
DTSTAMP;TZID=Asia/Taipei:20251130T163000
DTSTART;TZID=Asia/Taipei:20251130T163000
DTEND;TZID=Asia/Taipei:20251130T235959
SUMMARY:Turbo - Women's Event
DESCRIPTION:Game: Texas Hold'em (NL)\nBuy-In: 2,500 + 500 TWD\nStack: 20,000\nLevels: 15 min\nLate Reg: @ 18:30
LOCATION:Red Space, Taipei, Taiwan
END:VEVENT
END:VCALENDAR
