
BEGIN:VCALENDAR
VERSION:2.0
PRODID:-//Asian Poker Tour//APT Championship Taipei 2025//Turbo - NLH//EN
BEGIN:VEVENT
UID:01000000-a9fe-0a58-08ec-08de1e2deef5
DTSTAMP;TZID=Asia/Taipei:20251130T160000
DTSTART;TZID=Asia/Taipei:20251130T160000
DTEND;TZID=Asia/Taipei:20251130T235959
SUMMARY:Turbo - NLH
DESCRIPTION:Game: Texas Hold'em (NL)\nBuy-In: 8,542 + 1,458 TWD\nStack: 20,000\nLevels: 15 min\nLate Reg: @ 18:00
LOCATION:Red Space, Taipei, Taiwan
END:VEVENT
END:VCALENDAR
