
BEGIN:VCALENDAR
VERSION:2.0
PRODID:-//Asian Poker Tour//APT Championship Taipei 2025//PL Omaha High//EN
BEGIN:VEVENT
UID:01000000-a9fe-0a58-480a-08ddef02565c
DTSTAMP;TZID=Asia/Taipei:20251130T114500
DTSTART;TZID=Asia/Taipei:20251130T114500
DTEND;TZID=Asia/Taipei:20251130T235959
SUMMARY:PL Omaha High
DESCRIPTION:Game: Texas Hold'em (NL)\nBuy-In: 12,969 + 2,031 TWD\nStack: 30,000\nLevels: 20 min\nLate Reg: @ 15:35
LOCATION:Red Space, Taipei, Taiwan
END:VEVENT
END:VCALENDAR
