
BEGIN:VCALENDAR
VERSION:2.0
PRODID:-//Asian Poker Tour//APT Championship Taipei 2025//Women's Event//EN
BEGIN:VEVENT
UID:01000000-a9fe-0a58-57a9-08de1e2d581e
DTSTAMP;TZID=Asia/Taipei:20251130T113000
DTSTART;TZID=Asia/Taipei:20251130T113000
DTEND;TZID=Asia/Taipei:20251130T235959
SUMMARY:Women's Event
DESCRIPTION:Game: Texas Hold'em (NL)\nBuy-In: 5,000 + 1,000 TWD\nStack: 30,000\nLevels: 20 min\nLate Reg: @ 15:20
LOCATION:Red Space, Taipei, Taiwan
END:VEVENT
END:VCALENDAR
