
BEGIN:VCALENDAR
VERSION:2.0
PRODID:-//Asia Pacific Poker Tour//APPT Championship 2026//SuperStack - Hyper Turbo//EN
BEGIN:VEVENT
UID:01000000-3971-2ef2-bdec-08de90b46a3b
DTSTAMP;TZID=Asia/Manila:20261009T190000
DTSTART;TZID=Asia/Manila:20261009T190000
DTEND;TZID=Asia/Manila:20261009T235959
SUMMARY:SuperStack - Hyper Turbo
DESCRIPTION:Game: Texas Hold'em (NL)\nBuy-In: 22,080 + 2,920 PHP\nStack: 40,000\nLevels: 10 min\nLate Reg: @ 20:20
LOCATION:Okada Manila, Manila, Philippines
END:VEVENT
END:VCALENDAR
